{"text_format":"1","workbook":"xlsx","n_sheets":2,"sheets":["Kopfzahl","viermal-so-viel-doppelt-genau"],"not_rendered":{"charts":2,"images":0,"macros":1,"external_links":0,"defined_names":8,"comments":0,"pivot_tables":0},"unopened":[{"sheet":"Kopfzahl","index":0,"reason":"part_missing"}],"bounds":{"document_bytes":16777216,"sheet_cells":100000,"rows_first":2000,"rows_last":500,"rows_between":2000,"halvings":0,"cell_chars":16384,"cell_head_chars":4096},"cells_cut":0,"cells_raw":0,"read":"whole","date_system":"1900"}

{"sheet":"viermal-so-viel-doppelt-genau","index":1,"n_rows":127,"n_cols":14,"rows_kept":127,"cut":false,"hidden":false,"merged":[]}
[]
[null,0.5,0.5,0.5,0.5]
[null,25,100,400,1600,"25→100","100→400","400→1600"]
[1,{"$f":"[0]!Kopfzahl.Kopfzahl(25,B$2)/25","v":0.32},{"$f":"[0]!Kopfzahl.Kopfzahl(75,C$2)/75*(3/4)+B4/4","v":0.42},{"$f":"[0]!Kopfzahl.Kopfzahl(300,D$2)/300*(3/4)+C4/4","v":0.45249999999999996},{"$f":"[0]!Kopfzahl.Kopfzahl(1200,E$2)/1200*(3/4)+D4/4","v":0.48125000000000001},{"$f":"IF(ABS(C4-0.5)<ABS(B4-0.5),1,\"\")","v":1},{"$f":"IF(ABS(D4-0.5)<ABS(C4-0.5),1,\"\")","v":1},{"$f":"IF(ABS(E4-0.5)<ABS(D4-0.5),1,\"\")","v":1}]
[2,{"$f":"[0]!Kopfzahl.Kopfzahl(25,B$2)/25","v":0.44},{"$f":"[0]!Kopfzahl.Kopfzahl(75,C$2)/75*(3/4)+B5/4","v":0.41000000000000003},{"$f":"[0]!Kopfzahl.Kopfzahl(300,D$2)/300*(3/4)+C5/4","v":0.49749999999999994},{"$f":"[0]!Kopfzahl.Kopfzahl(1200,E$2)/1200*(3/4)+D5/4","v":0.49187499999999995},"",{"$f":"IF(ABS(D5-0.5)<ABS(C5-0.5),1,\"\")","v":1},{"$f":"IF(ABS(E5-0.5)<ABS(D5-0.5),1,\"\")","v":""}]
[3,{"$f":"[0]!Kopfzahl.Kopfzahl(25,B$2)/25","v":0.52},{"$f":"[0]!Kopfzahl.Kopfzahl(75,C$2)/75*(3/4)+B6/4","v":0.45},{"$f":"[0]!Kopfzahl.Kopfzahl(300,D$2)/300*(3/4)+C6/4","v":0.50000000000000011},{"$f":"[0]!Kopfzahl.Kopfzahl(1200,E$2)/1200*(3/4)+D6/4","v":0.50249999999999995},"",1,""]
[4,{"$f":"[0]!Kopfzahl.Kopfzahl(25,B$2)/25","v":0.4},{"$f":"[0]!Kopfzahl.Kopfzahl(75,C$2)/75*(3/4)+B7/4","v":0.48},{"$f":"[0]!Kopfzahl.Kopfzahl(300,D$2)/300*(3/4)+C7/4","v":0.48499999999999999},{"$f":"[0]!Kopfzahl.Kopfzahl(1200,E$2)/1200*(3/4)+D7/4","v":0.49249999999999994},1,1,1,null,null,null,null,null,{"$f":"[0]!Kopfzahl.Kopfzahl(20,0.5)","v":8}]
[5,{"$f":"[0]!Kopfzahl.Kopfzahl(25,B$2)/25","v":0.52},{"$f":"[0]!Kopfzahl.Kopfzahl(75,C$2)/75*(3/4)+B8/4","v":0.53},{"$f":"[0]!Kopfzahl.Kopfzahl(300,D$2)/300*(3/4)+C8/4","v":0.51750000000000007},{"$f":"[0]!Kopfzahl.Kopfzahl(1200,E$2)/1200*(3/4)+D8/4","v":0.510625},"",1,1]
[6,{"$f":"[0]!Kopfzahl.Kopfzahl(25,B$2)/25","v":0.44},{"$f":"[0]!Kopfzahl.Kopfzahl(75,C$2)/75*(3/4)+B9/4","v":0.48},{"$f":"[0]!Kopfzahl.Kopfzahl(300,D$2)/300*(3/4)+C9/4","v":0.495},{"$f":"[0]!Kopfzahl.Kopfzahl(1200,E$2)/1200*(3/4)+D9/4","v":0.510625},1,1,""]
[7,{"$f":"[0]!Kopfzahl.Kopfzahl(25,B$2)/25","v":0.52},{"$f":"[0]!Kopfzahl.Kopfzahl(75,C$2)/75*(3/4)+B10/4","v":0.48},{"$f":"[0]!Kopfzahl.Kopfzahl(300,D$2)/300*(3/4)+C10/4","v":0.48249999999999998},{"$f":"[0]!Kopfzahl.Kopfzahl(1200,E$2)/1200*(3/4)+D10/4","v":0.51375000000000004},"",1,1]
[8,{"$f":"[0]!Kopfzahl.Kopfzahl(25,B$2)/25","v":0.4},{"$f":"[0]!Kopfzahl.Kopfzahl(75,C$2)/75*(3/4)+B11/4","v":0.49},{"$f":"[0]!Kopfzahl.Kopfzahl(300,D$2)/300*(3/4)+C11/4","v":0.47499999999999998},{"$f":"[0]!Kopfzahl.Kopfzahl(1200,E$2)/1200*(3/4)+D11/4","v":0.49812500000000004},1,"",1]
[9,{"$f":"[0]!Kopfzahl.Kopfzahl(25,B$2)/25","v":0.44},{"$f":"[0]!Kopfzahl.Kopfzahl(75,C$2)/75*(3/4)+B12/4","v":0.54},{"$f":"[0]!Kopfzahl.Kopfzahl(300,D$2)/300*(3/4)+C12/4","v":0.51750000000000007},{"$f":"[0]!Kopfzahl.Kopfzahl(1200,E$2)/1200*(3/4)+D12/4","v":0.5},1,1,1]
[10,{"$f":"[0]!Kopfzahl.Kopfzahl(25,B$2)/25","v":0.52},{"$f":"[0]!Kopfzahl.Kopfzahl(75,C$2)/75*(3/4)+B13/4","v":0.52},{"$f":"[0]!Kopfzahl.Kopfzahl(300,D$2)/300*(3/4)+C13/4","v":0.5},{"$f":"[0]!Kopfzahl.Kopfzahl(1200,E$2)/1200*(3/4)+D13/4","v":0.51437500000000003},"",1,""]
[11,{"$f":"[0]!Kopfzahl.Kopfzahl(25,B$2)/25","v":0.68},{"$f":"[0]!Kopfzahl.Kopfzahl(75,C$2)/75*(3/4)+B14/4","v":0.51},{"$f":"[0]!Kopfzahl.Kopfzahl(300,D$2)/300*(3/4)+C14/4","v":0.49249999999999999},{"$f":"[0]!Kopfzahl.Kopfzahl(1200,E$2)/1200*(3/4)+D14/4","v":0.49125000000000002},1,1,""]
[12,{"$f":"[0]!Kopfzahl.Kopfzahl(25,B$2)/25","v":0.64},{"$f":"[0]!Kopfzahl.Kopfzahl(75,C$2)/75*(3/4)+B15/4","v":0.58000000000000007},{"$f":"[0]!Kopfzahl.Kopfzahl(300,D$2)/300*(3/4)+C15/4","v":0.57250000000000001},{"$f":"[0]!Kopfzahl.Kopfzahl(1200,E$2)/1200*(3/4)+D15/4","v":0.49937499999999996},1,1,1]
[13,{"$f":"[0]!Kopfzahl.Kopfzahl(25,B$2)/25","v":0.56000000000000005},{"$f":"[0]!Kopfzahl.Kopfzahl(75,C$2)/75*(3/4)+B16/4","v":0.55000000000000004},{"$f":"[0]!Kopfzahl.Kopfzahl(300,D$2)/300*(3/4)+C16/4","v":0.5},{"$f":"[0]!Kopfzahl.Kopfzahl(1200,E$2)/1200*(3/4)+D16/4","v":0.49937500000000001},1,1,""]
[14,{"$f":"[0]!Kopfzahl.Kopfzahl(25,B$2)/25","v":0.48},{"$f":"[0]!Kopfzahl.Kopfzahl(75,C$2)/75*(3/4)+B17/4","v":0.43},{"$f":"[0]!Kopfzahl.Kopfzahl(300,D$2)/300*(3/4)+C17/4","v":0.44749999999999995},{"$f":"[0]!Kopfzahl.Kopfzahl(1200,E$2)/1200*(3/4)+D17/4","v":0.46250000000000002},"",1,1]
[15,{"$f":"[0]!Kopfzahl.Kopfzahl(25,B$2)/25","v":0.4},{"$f":"[0]!Kopfzahl.Kopfzahl(75,C$2)/75*(3/4)+B18/4","v":0.4},{"$f":"[0]!Kopfzahl.Kopfzahl(300,D$2)/300*(3/4)+C18/4","v":0.49249999999999994},{"$f":"[0]!Kopfzahl.Kopfzahl(1200,E$2)/1200*(3/4)+D18/4","v":0.47749999999999998},"",1,"","Quartilabstand",{"$f":"B111-B106","v":0.12000000000000005},{"$f":"C111-C106","v":5.0000000000000044E-2},{"$f":"D111-D106","v":2.9999999999999971E-2},{"$f":"E111-E106","v":1.6562499999999925E-2}]
[16,{"$f":"[0]!Kopfzahl.Kopfzahl(25,B$2)/25","v":0.52},{"$f":"[0]!Kopfzahl.Kopfzahl(75,C$2)/75*(3/4)+B19/4","v":0.49},{"$f":"[0]!Kopfzahl.Kopfzahl(300,D$2)/300*(3/4)+C19/4","v":0.49999999999999994},{"$f":"[0]!Kopfzahl.Kopfzahl(1200,E$2)/1200*(3/4)+D19/4","v":0.50749999999999995},1,1,"","Verkleinerungsfaktor",null,{"$f":"K18/J18","v":0.41666666666666685},{"$f":"L18/K18","v":0.59999999999999887},{"$f":"M18/L18","v":0.55208333333333137}]
[17,{"$f":"[0]!Kopfzahl.Kopfzahl(25,B$2)/25","v":0.44},{"$f":"[0]!Kopfzahl.Kopfzahl(75,C$2)/75*(3/4)+B20/4","v":0.48},{"$f":"[0]!Kopfzahl.Kopfzahl(300,D$2)/300*(3/4)+C20/4","v":0.48499999999999999},{"$f":"[0]!Kopfzahl.Kopfzahl(1200,E$2)/1200*(3/4)+D20/4","v":0.51374999999999993},1,1,1]
[18,{"$f":"[0]!Kopfzahl.Kopfzahl(25,B$2)/25","v":0.6},{"$f":"[0]!Kopfzahl.Kopfzahl(75,C$2)/75*(3/4)+B21/4","v":0.55999999999999994},{"$f":"[0]!Kopfzahl.Kopfzahl(300,D$2)/300*(3/4)+C21/4","v":0.51249999999999996},{"$f":"[0]!Kopfzahl.Kopfzahl(1200,E$2)/1200*(3/4)+D21/4","v":0.49812499999999998},1,1,1]
[19,{"$f":"[0]!Kopfzahl.Kopfzahl(25,B$2)/25","v":0.44},{"$f":"[0]!Kopfzahl.Kopfzahl(75,C$2)/75*(3/4)+B22/4","v":0.48},{"$f":"[0]!Kopfzahl.Kopfzahl(300,D$2)/300*(3/4)+C22/4","v":0.51},{"$f":"[0]!Kopfzahl.Kopfzahl(1200,E$2)/1200*(3/4)+D22/4","v":0.49874999999999997},1,1,1]
[20,{"$f":"[0]!Kopfzahl.Kopfzahl(25,B$2)/25","v":0.6},{"$f":"[0]!Kopfzahl.Kopfzahl(75,C$2)/75*(3/4)+B23/4","v":0.45000000000000007},{"$f":"[0]!Kopfzahl.Kopfzahl(300,D$2)/300*(3/4)+C23/4","v":0.505},{"$f":"[0]!Kopfzahl.Kopfzahl(1200,E$2)/1200*(3/4)+D23/4","v":0.50124999999999997},1,1,1]
[21,{"$f":"[0]!Kopfzahl.Kopfzahl(25,B$2)/25","v":0.52},{"$f":"[0]!Kopfzahl.Kopfzahl(75,C$2)/75*(3/4)+B24/4","v":0.49},{"$f":"[0]!Kopfzahl.Kopfzahl(300,D$2)/300*(3/4)+C24/4","v":0.49999999999999994},{"$f":"[0]!Kopfzahl.Kopfzahl(1200,E$2)/1200*(3/4)+D24/4","v":0.48499999999999999},1,1,""]
[22,{"$f":"[0]!Kopfzahl.Kopfzahl(25,B$2)/25","v":0.52},{"$f":"[0]!Kopfzahl.Kopfzahl(75,C$2)/75*(3/4)+B25/4","v":0.55000000000000004},{"$f":"[0]!Kopfzahl.Kopfzahl(300,D$2)/300*(3/4)+C25/4","v":0.51249999999999996},{"$f":"[0]!Kopfzahl.Kopfzahl(1200,E$2)/1200*(3/4)+D25/4","v":0.51624999999999988},"",1,""]
[23,{"$f":"[0]!Kopfzahl.Kopfzahl(25,B$2)/25","v":0.56000000000000005},{"$f":"[0]!Kopfzahl.Kopfzahl(75,C$2)/75*(3/4)+B26/4","v":0.54},{"$f":"[0]!Kopfzahl.Kopfzahl(300,D$2)/300*(3/4)+C26/4","v":0.48249999999999998},{"$f":"[0]!Kopfzahl.Kopfzahl(1200,E$2)/1200*(3/4)+D26/4","v":0.50874999999999992},1,1,1]
[24,{"$f":"[0]!Kopfzahl.Kopfzahl(25,B$2)/25","v":0.6},{"$f":"[0]!Kopfzahl.Kopfzahl(75,C$2)/75*(3/4)+B27/4","v":0.51},{"$f":"[0]!Kopfzahl.Kopfzahl(300,D$2)/300*(3/4)+C27/4","v":0.48249999999999998},{"$f":"[0]!Kopfzahl.Kopfzahl(1200,E$2)/1200*(3/4)+D27/4","v":0.50624999999999998},1,"",1]
[25,{"$f":"[0]!Kopfzahl.Kopfzahl(25,B$2)/25","v":0.6},{"$f":"[0]!Kopfzahl.Kopfzahl(75,C$2)/75*(3/4)+B28/4","v":0.55000000000000004},{"$f":"[0]!Kopfzahl.Kopfzahl(300,D$2)/300*(3/4)+C28/4","v":0.50249999999999995},{"$f":"[0]!Kopfzahl.Kopfzahl(1200,E$2)/1200*(3/4)+D28/4","v":0.49312499999999998},1,1,""]
[26,{"$f":"[0]!Kopfzahl.Kopfzahl(25,B$2)/25","v":0.48},{"$f":"[0]!Kopfzahl.Kopfzahl(75,C$2)/75*(3/4)+B29/4","v":0.48},{"$f":"[0]!Kopfzahl.Kopfzahl(300,D$2)/300*(3/4)+C29/4","v":0.51750000000000007},{"$f":"[0]!Kopfzahl.Kopfzahl(1200,E$2)/1200*(3/4)+D29/4","v":0.51250000000000007},"",1,1]
[27,{"$f":"[0]!Kopfzahl.Kopfzahl(25,B$2)/25","v":0.56000000000000005},{"$f":"[0]!Kopfzahl.Kopfzahl(75,C$2)/75*(3/4)+B30/4","v":0.5},{"$f":"[0]!Kopfzahl.Kopfzahl(300,D$2)/300*(3/4)+C30/4","v":0.48749999999999999},{"$f":"[0]!Kopfzahl.Kopfzahl(1200,E$2)/1200*(3/4)+D30/4","v":0.489375},1,"",1]
[28,{"$f":"[0]!Kopfzahl.Kopfzahl(25,B$2)/25","v":0.56000000000000005},{"$f":"[0]!Kopfzahl.Kopfzahl(75,C$2)/75*(3/4)+B31/4","v":0.51},{"$f":"[0]!Kopfzahl.Kopfzahl(300,D$2)/300*(3/4)+C31/4","v":0.51500000000000012},{"$f":"[0]!Kopfzahl.Kopfzahl(1200,E$2)/1200*(3/4)+D31/4","v":0.50687499999999996},1,"",1]
[29,{"$f":"[0]!Kopfzahl.Kopfzahl(25,B$2)/25","v":0.52},{"$f":"[0]!Kopfzahl.Kopfzahl(75,C$2)/75*(3/4)+B32/4","v":0.51},{"$f":"[0]!Kopfzahl.Kopfzahl(300,D$2)/300*(3/4)+C32/4","v":0.51750000000000007},{"$f":"[0]!Kopfzahl.Kopfzahl(1200,E$2)/1200*(3/4)+D32/4","v":0.50562499999999999},1,"",1]
[30,{"$f":"[0]!Kopfzahl.Kopfzahl(25,B$2)/25","v":0.4},{"$f":"[0]!Kopfzahl.Kopfzahl(75,C$2)/75*(3/4)+B33/4","v":0.49},{"$f":"[0]!Kopfzahl.Kopfzahl(300,D$2)/300*(3/4)+C33/4","v":0.48499999999999999},{"$f":"[0]!Kopfzahl.Kopfzahl(1200,E$2)/1200*(3/4)+D33/4","v":0.48250000000000004},1,"",""]
[31,{"$f":"[0]!Kopfzahl.Kopfzahl(25,B$2)/25","v":0.48},{"$f":"[0]!Kopfzahl.Kopfzahl(75,C$2)/75*(3/4)+B34/4","v":0.59000000000000008},{"$f":"[0]!Kopfzahl.Kopfzahl(300,D$2)/300*(3/4)+C34/4","v":0.51750000000000007},{"$f":"[0]!Kopfzahl.Kopfzahl(1200,E$2)/1200*(3/4)+D34/4","v":0.50062499999999999},"",1,1]
[32,{"$f":"[0]!Kopfzahl.Kopfzahl(25,B$2)/25","v":0.44},{"$f":"[0]!Kopfzahl.Kopfzahl(75,C$2)/75*(3/4)+B35/4","v":0.53},{"$f":"[0]!Kopfzahl.Kopfzahl(300,D$2)/300*(3/4)+C35/4","v":0.52249999999999996},{"$f":"[0]!Kopfzahl.Kopfzahl(1200,E$2)/1200*(3/4)+D35/4","v":0.51124999999999998},1,1,1]
[33,{"$f":"[0]!Kopfzahl.Kopfzahl(25,B$2)/25","v":0.64},{"$f":"[0]!Kopfzahl.Kopfzahl(75,C$2)/75*(3/4)+B36/4","v":0.49},{"$f":"[0]!Kopfzahl.Kopfzahl(300,D$2)/300*(3/4)+C36/4","v":0.51},{"$f":"[0]!Kopfzahl.Kopfzahl(1200,E$2)/1200*(3/4)+D36/4","v":0.50062499999999999},1,"",1]
[34,{"$f":"[0]!Kopfzahl.Kopfzahl(25,B$2)/25","v":0.6},{"$f":"[0]!Kopfzahl.Kopfzahl(75,C$2)/75*(3/4)+B37/4","v":0.52},{"$f":"[0]!Kopfzahl.Kopfzahl(300,D$2)/300*(3/4)+C37/4","v":0.49249999999999999},{"$f":"[0]!Kopfzahl.Kopfzahl(1200,E$2)/1200*(3/4)+D37/4","v":0.50937500000000002},1,1,""]
[35,{"$f":"[0]!Kopfzahl.Kopfzahl(25,B$2)/25","v":0.52},{"$f":"[0]!Kopfzahl.Kopfzahl(75,C$2)/75*(3/4)+B38/4","v":0.5},{"$f":"[0]!Kopfzahl.Kopfzahl(300,D$2)/300*(3/4)+C38/4","v":0.50750000000000006},{"$f":"[0]!Kopfzahl.Kopfzahl(1200,E$2)/1200*(3/4)+D38/4","v":0.50249999999999995},1,"",1]
[36,{"$f":"[0]!Kopfzahl.Kopfzahl(25,B$2)/25","v":0.48},{"$f":"[0]!Kopfzahl.Kopfzahl(75,C$2)/75*(3/4)+B39/4","v":0.51},{"$f":"[0]!Kopfzahl.Kopfzahl(300,D$2)/300*(3/4)+C39/4","v":0.48},{"$f":"[0]!Kopfzahl.Kopfzahl(1200,E$2)/1200*(3/4)+D39/4","v":0.50187499999999996},1,"",1]
[37,{"$f":"[0]!Kopfzahl.Kopfzahl(25,B$2)/25","v":0.6},{"$f":"[0]!Kopfzahl.Kopfzahl(75,C$2)/75*(3/4)+B40/4","v":0.52},{"$f":"[0]!Kopfzahl.Kopfzahl(300,D$2)/300*(3/4)+C40/4","v":0.54749999999999999},{"$f":"[0]!Kopfzahl.Kopfzahl(1200,E$2)/1200*(3/4)+D40/4","v":0.50937500000000002},1,"",1]
[38,{"$f":"[0]!Kopfzahl.Kopfzahl(25,B$2)/25","v":0.44},{"$f":"[0]!Kopfzahl.Kopfzahl(75,C$2)/75*(3/4)+B41/4","v":0.48},{"$f":"[0]!Kopfzahl.Kopfzahl(300,D$2)/300*(3/4)+C41/4","v":0.5149999999999999},{"$f":"[0]!Kopfzahl.Kopfzahl(1200,E$2)/1200*(3/4)+D41/4","v":0.52312500000000006},1,1,""]
[39,{"$f":"[0]!Kopfzahl.Kopfzahl(25,B$2)/25","v":0.72},{"$f":"[0]!Kopfzahl.Kopfzahl(75,C$2)/75*(3/4)+B42/4","v":0.65},{"$f":"[0]!Kopfzahl.Kopfzahl(300,D$2)/300*(3/4)+C42/4","v":0.49250000000000005},{"$f":"[0]!Kopfzahl.Kopfzahl(1200,E$2)/1200*(3/4)+D42/4","v":0.489375},1,1,""]
[40,{"$f":"[0]!Kopfzahl.Kopfzahl(25,B$2)/25","v":0.44},{"$f":"[0]!Kopfzahl.Kopfzahl(75,C$2)/75*(3/4)+B43/4","v":0.43},{"$f":"[0]!Kopfzahl.Kopfzahl(300,D$2)/300*(3/4)+C43/4","v":0.47},{"$f":"[0]!Kopfzahl.Kopfzahl(1200,E$2)/1200*(3/4)+D43/4","v":0.4975},"",1,1]
[41,{"$f":"[0]!Kopfzahl.Kopfzahl(25,B$2)/25","v":0.48},{"$f":"[0]!Kopfzahl.Kopfzahl(75,C$2)/75*(3/4)+B44/4","v":0.49},{"$f":"[0]!Kopfzahl.Kopfzahl(300,D$2)/300*(3/4)+C44/4","v":0.47499999999999998},{"$f":"[0]!Kopfzahl.Kopfzahl(1200,E$2)/1200*(3/4)+D44/4","v":0.51312500000000005},1,"",1]
[42,{"$f":"[0]!Kopfzahl.Kopfzahl(25,B$2)/25","v":0.52},{"$f":"[0]!Kopfzahl.Kopfzahl(75,C$2)/75*(3/4)+B45/4","v":0.54},{"$f":"[0]!Kopfzahl.Kopfzahl(300,D$2)/300*(3/4)+C45/4","v":0.51},{"$f":"[0]!Kopfzahl.Kopfzahl(1200,E$2)/1200*(3/4)+D45/4","v":0.49187500000000001},"",1,1]
[43,{"$f":"[0]!Kopfzahl.Kopfzahl(25,B$2)/25","v":0.36},{"$f":"[0]!Kopfzahl.Kopfzahl(75,C$2)/75*(3/4)+B46/4","v":0.49},{"$f":"[0]!Kopfzahl.Kopfzahl(300,D$2)/300*(3/4)+C46/4","v":0.51249999999999996},{"$f":"[0]!Kopfzahl.Kopfzahl(1200,E$2)/1200*(3/4)+D46/4","v":0.50374999999999992},1,"",1]
[44,{"$f":"[0]!Kopfzahl.Kopfzahl(25,B$2)/25","v":0.6},{"$f":"[0]!Kopfzahl.Kopfzahl(75,C$2)/75*(3/4)+B47/4","v":0.55000000000000004},{"$f":"[0]!Kopfzahl.Kopfzahl(300,D$2)/300*(3/4)+C47/4","v":0.46},{"$f":"[0]!Kopfzahl.Kopfzahl(1200,E$2)/1200*(3/4)+D47/4","v":0.489375},1,1,1]
[45,{"$f":"[0]!Kopfzahl.Kopfzahl(25,B$2)/25","v":0.4},{"$f":"[0]!Kopfzahl.Kopfzahl(75,C$2)/75*(3/4)+B48/4","v":0.49},{"$f":"[0]!Kopfzahl.Kopfzahl(300,D$2)/300*(3/4)+C48/4","v":0.48000000000000004},{"$f":"[0]!Kopfzahl.Kopfzahl(1200,E$2)/1200*(3/4)+D48/4","v":0.48625000000000002},1,"",1]
[46,{"$f":"[0]!Kopfzahl.Kopfzahl(25,B$2)/25","v":0.44},{"$f":"[0]!Kopfzahl.Kopfzahl(75,C$2)/75*(3/4)+B49/4","v":0.51},{"$f":"[0]!Kopfzahl.Kopfzahl(300,D$2)/300*(3/4)+C49/4","v":0.47250000000000003},{"$f":"[0]!Kopfzahl.Kopfzahl(1200,E$2)/1200*(3/4)+D49/4","v":0.484375},1,"",1]
[47,{"$f":"[0]!Kopfzahl.Kopfzahl(25,B$2)/25","v":0.44},{"$f":"[0]!Kopfzahl.Kopfzahl(75,C$2)/75*(3/4)+B50/4","v":0.41000000000000003},{"$f":"[0]!Kopfzahl.Kopfzahl(300,D$2)/300*(3/4)+C50/4","v":0.51249999999999996},{"$f":"[0]!Kopfzahl.Kopfzahl(1200,E$2)/1200*(3/4)+D50/4","v":0.49312499999999998},"",1,1]
[48,{"$f":"[0]!Kopfzahl.Kopfzahl(25,B$2)/25","v":0.52},{"$f":"[0]!Kopfzahl.Kopfzahl(75,C$2)/75*(3/4)+B51/4","v":0.54},{"$f":"[0]!Kopfzahl.Kopfzahl(300,D$2)/300*(3/4)+C51/4","v":0.48499999999999999},{"$f":"[0]!Kopfzahl.Kopfzahl(1200,E$2)/1200*(3/4)+D51/4","v":0.49062499999999998},"",1,1]
[49,{"$f":"[0]!Kopfzahl.Kopfzahl(25,B$2)/25","v":0.48},{"$f":"[0]!Kopfzahl.Kopfzahl(75,C$2)/75*(3/4)+B52/4","v":0.5},{"$f":"[0]!Kopfzahl.Kopfzahl(300,D$2)/300*(3/4)+C52/4","v":0.49},{"$f":"[0]!Kopfzahl.Kopfzahl(1200,E$2)/1200*(3/4)+D52/4","v":0.48499999999999999},1,"",""]
[50,{"$f":"[0]!Kopfzahl.Kopfzahl(25,B$2)/25","v":0.48},{"$f":"[0]!Kopfzahl.Kopfzahl(75,C$2)/75*(3/4)+B53/4","v":0.5},{"$f":"[0]!Kopfzahl.Kopfzahl(300,D$2)/300*(3/4)+C53/4","v":0.50750000000000006},{"$f":"[0]!Kopfzahl.Kopfzahl(1200,E$2)/1200*(3/4)+D53/4","v":0.49687500000000001},1,"",1]
[51,{"$f":"[0]!Kopfzahl.Kopfzahl(25,B$2)/25","v":0.32},{"$f":"[0]!Kopfzahl.Kopfzahl(75,C$2)/75*(3/4)+B54/4","v":0.43},{"$f":"[0]!Kopfzahl.Kopfzahl(300,D$2)/300*(3/4)+C54/4","v":0.4975},{"$f":"[0]!Kopfzahl.Kopfzahl(1200,E$2)/1200*(3/4)+D54/4","v":0.50562499999999999},1,1,""]
[52,{"$f":"[0]!Kopfzahl.Kopfzahl(25,B$2)/25","v":0.56000000000000005},{"$f":"[0]!Kopfzahl.Kopfzahl(75,C$2)/75*(3/4)+B55/4","v":0.6},{"$f":"[0]!Kopfzahl.Kopfzahl(300,D$2)/300*(3/4)+C55/4","v":0.52500000000000002},{"$f":"[0]!Kopfzahl.Kopfzahl(1200,E$2)/1200*(3/4)+D55/4","v":0.50375000000000003},"",1,1]
[53,{"$f":"[0]!Kopfzahl.Kopfzahl(25,B$2)/25","v":0.6},{"$f":"[0]!Kopfzahl.Kopfzahl(75,C$2)/75*(3/4)+B56/4","v":0.53},{"$f":"[0]!Kopfzahl.Kopfzahl(300,D$2)/300*(3/4)+C56/4","v":0.47500000000000003},{"$f":"[0]!Kopfzahl.Kopfzahl(1200,E$2)/1200*(3/4)+D56/4","v":0.49624999999999997},1,1,1]
[54,{"$f":"[0]!Kopfzahl.Kopfzahl(25,B$2)/25","v":0.4},{"$f":"[0]!Kopfzahl.Kopfzahl(75,C$2)/75*(3/4)+B57/4","v":0.51},{"$f":"[0]!Kopfzahl.Kopfzahl(300,D$2)/300*(3/4)+C57/4","v":0.51},{"$f":"[0]!Kopfzahl.Kopfzahl(1200,E$2)/1200*(3/4)+D57/4","v":0.49187500000000001},1,"",1]
[55,{"$f":"[0]!Kopfzahl.Kopfzahl(25,B$2)/25","v":0.48},{"$f":"[0]!Kopfzahl.Kopfzahl(75,C$2)/75*(3/4)+B58/4","v":0.52},{"$f":"[0]!Kopfzahl.Kopfzahl(300,D$2)/300*(3/4)+C58/4","v":0.53},{"$f":"[0]!Kopfzahl.Kopfzahl(1200,E$2)/1200*(3/4)+D58/4","v":0.505},"","",1]
[56,{"$f":"[0]!Kopfzahl.Kopfzahl(25,B$2)/25","v":0.4},{"$f":"[0]!Kopfzahl.Kopfzahl(75,C$2)/75*(3/4)+B59/4","v":0.51},{"$f":"[0]!Kopfzahl.Kopfzahl(300,D$2)/300*(3/4)+C59/4","v":0.53},{"$f":"[0]!Kopfzahl.Kopfzahl(1200,E$2)/1200*(3/4)+D59/4","v":0.51187500000000008},1,"",1]
[57,{"$f":"[0]!Kopfzahl.Kopfzahl(25,B$2)/25","v":0.36},{"$f":"[0]!Kopfzahl.Kopfzahl(75,C$2)/75*(3/4)+B60/4","v":0.43999999999999995},{"$f":"[0]!Kopfzahl.Kopfzahl(300,D$2)/300*(3/4)+C60/4","v":0.49249999999999999},{"$f":"[0]!Kopfzahl.Kopfzahl(1200,E$2)/1200*(3/4)+D60/4","v":0.51500000000000001},1,1,""]
[58,{"$f":"[0]!Kopfzahl.Kopfzahl(25,B$2)/25","v":0.64},{"$f":"[0]!Kopfzahl.Kopfzahl(75,C$2)/75*(3/4)+B61/4","v":0.44000000000000006},{"$f":"[0]!Kopfzahl.Kopfzahl(300,D$2)/300*(3/4)+C61/4","v":0.5},{"$f":"[0]!Kopfzahl.Kopfzahl(1200,E$2)/1200*(3/4)+D61/4","v":0.50312500000000004},1,1,""]
[59,{"$f":"[0]!Kopfzahl.Kopfzahl(25,B$2)/25","v":0.52},{"$f":"[0]!Kopfzahl.Kopfzahl(75,C$2)/75*(3/4)+B62/4","v":0.61},{"$f":"[0]!Kopfzahl.Kopfzahl(300,D$2)/300*(3/4)+C62/4","v":0.54},{"$f":"[0]!Kopfzahl.Kopfzahl(1200,E$2)/1200*(3/4)+D62/4","v":0.51375000000000004},"",1,1]
[60,{"$f":"[0]!Kopfzahl.Kopfzahl(25,B$2)/25","v":0.44},{"$f":"[0]!Kopfzahl.Kopfzahl(75,C$2)/75*(3/4)+B63/4","v":0.5},{"$f":"[0]!Kopfzahl.Kopfzahl(300,D$2)/300*(3/4)+C63/4","v":0.49249999999999999},{"$f":"[0]!Kopfzahl.Kopfzahl(1200,E$2)/1200*(3/4)+D63/4","v":0.49562499999999998},1,"",1]
[61,{"$f":"[0]!Kopfzahl.Kopfzahl(25,B$2)/25","v":0.4},{"$f":"[0]!Kopfzahl.Kopfzahl(75,C$2)/75*(3/4)+B64/4","v":0.5},{"$f":"[0]!Kopfzahl.Kopfzahl(300,D$2)/300*(3/4)+C64/4","v":0.52249999999999996},{"$f":"[0]!Kopfzahl.Kopfzahl(1200,E$2)/1200*(3/4)+D64/4","v":0.50749999999999995},1,"",1]
[62,{"$f":"[0]!Kopfzahl.Kopfzahl(25,B$2)/25","v":0.56000000000000005},{"$f":"[0]!Kopfzahl.Kopfzahl(75,C$2)/75*(3/4)+B65/4","v":0.42000000000000004},{"$f":"[0]!Kopfzahl.Kopfzahl(300,D$2)/300*(3/4)+C65/4","v":0.46750000000000003},{"$f":"[0]!Kopfzahl.Kopfzahl(1200,E$2)/1200*(3/4)+D65/4","v":0.48062500000000002},"",1,1]
[63,{"$f":"[0]!Kopfzahl.Kopfzahl(25,B$2)/25","v":0.4},{"$f":"[0]!Kopfzahl.Kopfzahl(75,C$2)/75*(3/4)+B66/4","v":0.45999999999999996},{"$f":"[0]!Kopfzahl.Kopfzahl(300,D$2)/300*(3/4)+C66/4","v":0.47250000000000003},{"$f":"[0]!Kopfzahl.Kopfzahl(1200,E$2)/1200*(3/4)+D66/4","v":0.49124999999999996},1,1,1]
[64,{"$f":"[0]!Kopfzahl.Kopfzahl(25,B$2)/25","v":0.48},{"$f":"[0]!Kopfzahl.Kopfzahl(75,C$2)/75*(3/4)+B67/4","v":0.48},{"$f":"[0]!Kopfzahl.Kopfzahl(300,D$2)/300*(3/4)+C67/4","v":0.45750000000000002},{"$f":"[0]!Kopfzahl.Kopfzahl(1200,E$2)/1200*(3/4)+D67/4","v":0.5},"","",1]
[65,{"$f":"[0]!Kopfzahl.Kopfzahl(25,B$2)/25","v":0.52},{"$f":"[0]!Kopfzahl.Kopfzahl(75,C$2)/75*(3/4)+B68/4","v":0.52},{"$f":"[0]!Kopfzahl.Kopfzahl(300,D$2)/300*(3/4)+C68/4","v":0.48499999999999999},{"$f":"[0]!Kopfzahl.Kopfzahl(1200,E$2)/1200*(3/4)+D68/4","v":0.49437500000000001},"",1,1]
[66,{"$f":"[0]!Kopfzahl.Kopfzahl(25,B$2)/25","v":0.44},{"$f":"[0]!Kopfzahl.Kopfzahl(75,C$2)/75*(3/4)+B69/4","v":0.55000000000000004},{"$f":"[0]!Kopfzahl.Kopfzahl(300,D$2)/300*(3/4)+C69/4","v":0.54},{"$f":"[0]!Kopfzahl.Kopfzahl(1200,E$2)/1200*(3/4)+D69/4","v":0.515625},{"$f":"IF(ABS(C69-0.5)<ABS(B69-0.5),1,\"\")","v":1},{"$f":"IF(ABS(D69-0.5)<ABS(C69-0.5),1,\"\")","v":1},{"$f":"IF(ABS(E69-0.5)<ABS(D69-0.5),1,\"\")","v":1}]
[67,{"$f":"[0]!Kopfzahl.Kopfzahl(25,B$2)/25","v":0.56000000000000005},{"$f":"[0]!Kopfzahl.Kopfzahl(75,C$2)/75*(3/4)+B70/4","v":0.56000000000000005},{"$f":"[0]!Kopfzahl.Kopfzahl(300,D$2)/300*(3/4)+C70/4","v":0.49750000000000005},{"$f":"[0]!Kopfzahl.Kopfzahl(1200,E$2)/1200*(3/4)+D70/4","v":0.50312500000000004},"",1,""]
[68,{"$f":"[0]!Kopfzahl.Kopfzahl(25,B$2)/25","v":0.4},{"$f":"[0]!Kopfzahl.Kopfzahl(75,C$2)/75*(3/4)+B71/4","v":0.45999999999999996},{"$f":"[0]!Kopfzahl.Kopfzahl(300,D$2)/300*(3/4)+C71/4","v":0.49},{"$f":"[0]!Kopfzahl.Kopfzahl(1200,E$2)/1200*(3/4)+D71/4","v":0.50437500000000002},1,1,1]
[69,{"$f":"[0]!Kopfzahl.Kopfzahl(25,B$2)/25","v":0.6},{"$f":"[0]!Kopfzahl.Kopfzahl(75,C$2)/75*(3/4)+B72/4","v":0.5},{"$f":"[0]!Kopfzahl.Kopfzahl(300,D$2)/300*(3/4)+C72/4","v":0.52500000000000002},{"$f":"[0]!Kopfzahl.Kopfzahl(1200,E$2)/1200*(3/4)+D72/4","v":0.50812499999999994},1,"",1]
[70,{"$f":"[0]!Kopfzahl.Kopfzahl(25,B$2)/25","v":0.44},{"$f":"[0]!Kopfzahl.Kopfzahl(75,C$2)/75*(3/4)+B73/4","v":0.5},{"$f":"[0]!Kopfzahl.Kopfzahl(300,D$2)/300*(3/4)+C73/4","v":0.47499999999999998},{"$f":"[0]!Kopfzahl.Kopfzahl(1200,E$2)/1200*(3/4)+D73/4","v":0.505},1,"",1]
[71,{"$f":"[0]!Kopfzahl.Kopfzahl(25,B$2)/25","v":0.6},{"$f":"[0]!Kopfzahl.Kopfzahl(75,C$2)/75*(3/4)+B74/4","v":0.51},{"$f":"[0]!Kopfzahl.Kopfzahl(300,D$2)/300*(3/4)+C74/4","v":0.49249999999999999},{"$f":"[0]!Kopfzahl.Kopfzahl(1200,E$2)/1200*(3/4)+D74/4","v":0.49937500000000001},1,1,1]
[72,{"$f":"[0]!Kopfzahl.Kopfzahl(25,B$2)/25","v":0.52},{"$f":"[0]!Kopfzahl.Kopfzahl(75,C$2)/75*(3/4)+B75/4","v":0.5},{"$f":"[0]!Kopfzahl.Kopfzahl(300,D$2)/300*(3/4)+C75/4","v":0.47749999999999998},{"$f":"[0]!Kopfzahl.Kopfzahl(1200,E$2)/1200*(3/4)+D75/4","v":0.50062499999999999},1,"",1]
[73,{"$f":"[0]!Kopfzahl.Kopfzahl(25,B$2)/25","v":0.44},{"$f":"[0]!Kopfzahl.Kopfzahl(75,C$2)/75*(3/4)+B76/4","v":0.52},{"$f":"[0]!Kopfzahl.Kopfzahl(300,D$2)/300*(3/4)+C76/4","v":0.505},{"$f":"[0]!Kopfzahl.Kopfzahl(1200,E$2)/1200*(3/4)+D76/4","v":0.51687499999999997},1,1,""]
[74,{"$f":"[0]!Kopfzahl.Kopfzahl(25,B$2)/25","v":0.56000000000000005},{"$f":"[0]!Kopfzahl.Kopfzahl(75,C$2)/75*(3/4)+B77/4","v":0.51},{"$f":"[0]!Kopfzahl.Kopfzahl(300,D$2)/300*(3/4)+C77/4","v":0.53749999999999998},{"$f":"[0]!Kopfzahl.Kopfzahl(1200,E$2)/1200*(3/4)+D77/4","v":0.48312500000000003},1,"",1]
[75,{"$f":"[0]!Kopfzahl.Kopfzahl(25,B$2)/25","v":0.52},{"$f":"[0]!Kopfzahl.Kopfzahl(75,C$2)/75*(3/4)+B78/4","v":0.51},{"$f":"[0]!Kopfzahl.Kopfzahl(300,D$2)/300*(3/4)+C78/4","v":0.49},{"$f":"[0]!Kopfzahl.Kopfzahl(1200,E$2)/1200*(3/4)+D78/4","v":0.49249999999999999},1,"",1]
[76,{"$f":"[0]!Kopfzahl.Kopfzahl(25,B$2)/25","v":0.36},{"$f":"[0]!Kopfzahl.Kopfzahl(75,C$2)/75*(3/4)+B79/4","v":0.38},{"$f":"[0]!Kopfzahl.Kopfzahl(300,D$2)/300*(3/4)+C79/4","v":0.45499999999999996},{"$f":"[0]!Kopfzahl.Kopfzahl(1200,E$2)/1200*(3/4)+D79/4","v":0.47499999999999998},1,1,1]
[77,{"$f":"[0]!Kopfzahl.Kopfzahl(25,B$2)/25","v":0.6},{"$f":"[0]!Kopfzahl.Kopfzahl(75,C$2)/75*(3/4)+B80/4","v":0.53},{"$f":"[0]!Kopfzahl.Kopfzahl(300,D$2)/300*(3/4)+C80/4","v":0.48499999999999999},{"$f":"[0]!Kopfzahl.Kopfzahl(1200,E$2)/1200*(3/4)+D80/4","v":0.50624999999999998},1,1,1]
[78,{"$f":"[0]!Kopfzahl.Kopfzahl(25,B$2)/25","v":0.6},{"$f":"[0]!Kopfzahl.Kopfzahl(75,C$2)/75*(3/4)+B81/4","v":0.55000000000000004},{"$f":"[0]!Kopfzahl.Kopfzahl(300,D$2)/300*(3/4)+C81/4","v":0.49},{"$f":"[0]!Kopfzahl.Kopfzahl(1200,E$2)/1200*(3/4)+D81/4","v":0.48312499999999997},1,1,""]
[79,{"$f":"[0]!Kopfzahl.Kopfzahl(25,B$2)/25","v":0.56000000000000005},{"$f":"[0]!Kopfzahl.Kopfzahl(75,C$2)/75*(3/4)+B82/4","v":0.51},{"$f":"[0]!Kopfzahl.Kopfzahl(300,D$2)/300*(3/4)+C82/4","v":0.52},{"$f":"[0]!Kopfzahl.Kopfzahl(1200,E$2)/1200*(3/4)+D82/4","v":0.50187500000000007},1,"",1]
[80,{"$f":"[0]!Kopfzahl.Kopfzahl(25,B$2)/25","v":0.44},{"$f":"[0]!Kopfzahl.Kopfzahl(75,C$2)/75*(3/4)+B83/4","v":0.53},{"$f":"[0]!Kopfzahl.Kopfzahl(300,D$2)/300*(3/4)+C83/4","v":0.50249999999999995},{"$f":"[0]!Kopfzahl.Kopfzahl(1200,E$2)/1200*(3/4)+D83/4","v":0.51687499999999997},1,1,""]
[81,{"$f":"[0]!Kopfzahl.Kopfzahl(25,B$2)/25","v":0.6},{"$f":"[0]!Kopfzahl.Kopfzahl(75,C$2)/75*(3/4)+B84/4","v":0.42000000000000004},{"$f":"[0]!Kopfzahl.Kopfzahl(300,D$2)/300*(3/4)+C84/4","v":0.52500000000000002},{"$f":"[0]!Kopfzahl.Kopfzahl(1200,E$2)/1200*(3/4)+D84/4","v":0.50937500000000002},1,1,1]
[82,{"$f":"[0]!Kopfzahl.Kopfzahl(25,B$2)/25","v":0.48},{"$f":"[0]!Kopfzahl.Kopfzahl(75,C$2)/75*(3/4)+B85/4","v":0.48},{"$f":"[0]!Kopfzahl.Kopfzahl(300,D$2)/300*(3/4)+C85/4","v":0.48749999999999999},{"$f":"[0]!Kopfzahl.Kopfzahl(1200,E$2)/1200*(3/4)+D85/4","v":0.50249999999999995},"",1,1]
[83,{"$f":"[0]!Kopfzahl.Kopfzahl(25,B$2)/25","v":0.56000000000000005},{"$f":"[0]!Kopfzahl.Kopfzahl(75,C$2)/75*(3/4)+B86/4","v":0.55000000000000004},{"$f":"[0]!Kopfzahl.Kopfzahl(300,D$2)/300*(3/4)+C86/4","v":0.48749999999999999},{"$f":"[0]!Kopfzahl.Kopfzahl(1200,E$2)/1200*(3/4)+D86/4","v":0.510625},1,1,1]
[84,{"$f":"[0]!Kopfzahl.Kopfzahl(25,B$2)/25","v":0.4},{"$f":"[0]!Kopfzahl.Kopfzahl(75,C$2)/75*(3/4)+B87/4","v":0.41000000000000003},{"$f":"[0]!Kopfzahl.Kopfzahl(300,D$2)/300*(3/4)+C87/4","v":0.47},{"$f":"[0]!Kopfzahl.Kopfzahl(1200,E$2)/1200*(3/4)+D87/4","v":0.47687499999999999},1,1,1]
[85,{"$f":"[0]!Kopfzahl.Kopfzahl(25,B$2)/25","v":0.36},{"$f":"[0]!Kopfzahl.Kopfzahl(75,C$2)/75*(3/4)+B88/4","v":0.49},{"$f":"[0]!Kopfzahl.Kopfzahl(300,D$2)/300*(3/4)+C88/4","v":0.48749999999999999},{"$f":"[0]!Kopfzahl.Kopfzahl(1200,E$2)/1200*(3/4)+D88/4","v":0.50812499999999994},1,"",1]
[86,{"$f":"[0]!Kopfzahl.Kopfzahl(25,B$2)/25","v":0.52},{"$f":"[0]!Kopfzahl.Kopfzahl(75,C$2)/75*(3/4)+B89/4","v":0.45},{"$f":"[0]!Kopfzahl.Kopfzahl(300,D$2)/300*(3/4)+C89/4","v":0.51},{"$f":"[0]!Kopfzahl.Kopfzahl(1200,E$2)/1200*(3/4)+D89/4","v":0.49187500000000001},"",1,1]
[87,{"$f":"[0]!Kopfzahl.Kopfzahl(25,B$2)/25","v":0.4},{"$f":"[0]!Kopfzahl.Kopfzahl(75,C$2)/75*(3/4)+B90/4","v":0.54999999999999993},{"$f":"[0]!Kopfzahl.Kopfzahl(300,D$2)/300*(3/4)+C90/4","v":0.47749999999999992},{"$f":"[0]!Kopfzahl.Kopfzahl(1200,E$2)/1200*(3/4)+D90/4","v":0.49875000000000003},1,1,1]
[88,{"$f":"[0]!Kopfzahl.Kopfzahl(25,B$2)/25","v":0.56000000000000005},{"$f":"[0]!Kopfzahl.Kopfzahl(75,C$2)/75*(3/4)+B91/4","v":0.51},{"$f":"[0]!Kopfzahl.Kopfzahl(300,D$2)/300*(3/4)+C91/4","v":0.4975},{"$f":"[0]!Kopfzahl.Kopfzahl(1200,E$2)/1200*(3/4)+D91/4","v":0.50375000000000003},1,1,""]
[89,{"$f":"[0]!Kopfzahl.Kopfzahl(25,B$2)/25","v":0.44},{"$f":"[0]!Kopfzahl.Kopfzahl(75,C$2)/75*(3/4)+B92/4","v":0.49},{"$f":"[0]!Kopfzahl.Kopfzahl(300,D$2)/300*(3/4)+C92/4","v":0.48000000000000004},{"$f":"[0]!Kopfzahl.Kopfzahl(1200,E$2)/1200*(3/4)+D92/4","v":0.51249999999999996},1,"",1]
[90,{"$f":"[0]!Kopfzahl.Kopfzahl(25,B$2)/25","v":0.44},{"$f":"[0]!Kopfzahl.Kopfzahl(75,C$2)/75*(3/4)+B93/4","v":0.43},{"$f":"[0]!Kopfzahl.Kopfzahl(300,D$2)/300*(3/4)+C93/4","v":0.51250000000000007},{"$f":"[0]!Kopfzahl.Kopfzahl(1200,E$2)/1200*(3/4)+D93/4","v":0.48187500000000005},"",1,""]
[91,{"$f":"[0]!Kopfzahl.Kopfzahl(25,B$2)/25","v":0.48},{"$f":"[0]!Kopfzahl.Kopfzahl(75,C$2)/75*(3/4)+B94/4","v":0.49},{"$f":"[0]!Kopfzahl.Kopfzahl(300,D$2)/300*(3/4)+C94/4","v":0.46500000000000002},{"$f":"[0]!Kopfzahl.Kopfzahl(1200,E$2)/1200*(3/4)+D94/4","v":0.50749999999999995},1,"",1]
[92,{"$f":"[0]!Kopfzahl.Kopfzahl(25,B$2)/25","v":0.6},{"$f":"[0]!Kopfzahl.Kopfzahl(75,C$2)/75*(3/4)+B95/4","v":0.53},{"$f":"[0]!Kopfzahl.Kopfzahl(300,D$2)/300*(3/4)+C95/4","v":0.51249999999999996},{"$f":"[0]!Kopfzahl.Kopfzahl(1200,E$2)/1200*(3/4)+D95/4","v":0.51312500000000005},1,1,""]
[93,{"$f":"[0]!Kopfzahl.Kopfzahl(25,B$2)/25","v":0.4},{"$f":"[0]!Kopfzahl.Kopfzahl(75,C$2)/75*(3/4)+B96/4","v":0.47},{"$f":"[0]!Kopfzahl.Kopfzahl(300,D$2)/300*(3/4)+C96/4","v":0.48249999999999998},{"$f":"[0]!Kopfzahl.Kopfzahl(1200,E$2)/1200*(3/4)+D96/4","v":0.51624999999999999},1,1,1]
[94,{"$f":"[0]!Kopfzahl.Kopfzahl(25,B$2)/25","v":0.44},{"$f":"[0]!Kopfzahl.Kopfzahl(75,C$2)/75*(3/4)+B97/4","v":0.5},{"$f":"[0]!Kopfzahl.Kopfzahl(300,D$2)/300*(3/4)+C97/4","v":0.45999999999999996},{"$f":"[0]!Kopfzahl.Kopfzahl(1200,E$2)/1200*(3/4)+D97/4","v":0.49812500000000004},1,"",1]
[95,{"$f":"[0]!Kopfzahl.Kopfzahl(25,B$2)/25","v":0.6},{"$f":"[0]!Kopfzahl.Kopfzahl(75,C$2)/75*(3/4)+B98/4","v":0.66},{"$f":"[0]!Kopfzahl.Kopfzahl(300,D$2)/300*(3/4)+C98/4","v":0.5675},{"$f":"[0]!Kopfzahl.Kopfzahl(1200,E$2)/1200*(3/4)+D98/4","v":0.505},"",1,1]
[96,{"$f":"[0]!Kopfzahl.Kopfzahl(25,B$2)/25","v":0.44},{"$f":"[0]!Kopfzahl.Kopfzahl(75,C$2)/75*(3/4)+B99/4","v":0.52},{"$f":"[0]!Kopfzahl.Kopfzahl(300,D$2)/300*(3/4)+C99/4","v":0.505},{"$f":"[0]!Kopfzahl.Kopfzahl(1200,E$2)/1200*(3/4)+D99/4","v":0.50937500000000002},1,1,""]
[97,{"$f":"[0]!Kopfzahl.Kopfzahl(25,B$2)/25","v":0.4},{"$f":"[0]!Kopfzahl.Kopfzahl(75,C$2)/75*(3/4)+B100/4","v":0.44999999999999996},{"$f":"[0]!Kopfzahl.Kopfzahl(300,D$2)/300*(3/4)+C100/4","v":0.45999999999999996},{"$f":"[0]!Kopfzahl.Kopfzahl(1200,E$2)/1200*(3/4)+D100/4","v":0.47437499999999999},1,1,1]
[98,{"$f":"[0]!Kopfzahl.Kopfzahl(25,B$2)/25","v":0.4},{"$f":"[0]!Kopfzahl.Kopfzahl(75,C$2)/75*(3/4)+B101/4","v":0.47},{"$f":"[0]!Kopfzahl.Kopfzahl(300,D$2)/300*(3/4)+C101/4","v":0.51249999999999996},{"$f":"[0]!Kopfzahl.Kopfzahl(1200,E$2)/1200*(3/4)+D101/4","v":0.50687499999999996},1,1,1]
[99,{"$f":"[0]!Kopfzahl.Kopfzahl(25,B$2)/25","v":0.6},{"$f":"[0]!Kopfzahl.Kopfzahl(75,C$2)/75*(3/4)+B102/4","v":0.53},{"$f":"[0]!Kopfzahl.Kopfzahl(300,D$2)/300*(3/4)+C102/4","v":0.54},{"$f":"[0]!Kopfzahl.Kopfzahl(1200,E$2)/1200*(3/4)+D102/4","v":0.52312499999999995},1,"",1]
[100,{"$f":"[0]!Kopfzahl.Kopfzahl(25,B$2)/25","v":0.48},{"$f":"[0]!Kopfzahl.Kopfzahl(75,C$2)/75*(3/4)+B103/4","v":0.47},{"$f":"[0]!Kopfzahl.Kopfzahl(300,D$2)/300*(3/4)+C103/4","v":0.48749999999999999},{"$f":"[0]!Kopfzahl.Kopfzahl(1200,E$2)/1200*(3/4)+D103/4","v":0.49562500000000004},"",1,1]
[null,null,null,null,null,{"$f":"SUM(F4:F103)","v":74},{"$f":"SUM(G4:G103)","v":67},{"$f":"SUM(H4:H103)","v":73}]
[null,"25er","100er","400er","1600er"]
["q1",{"$f":"PERCENTILE(B$4:B$103,0.25)","v":0.44},{"$f":"PERCENTILE(C$4:C$103,0.25)","v":0.48},{"$f":"PERCENTILE(D$4:D$103,0.25)","v":0.48249999999999998},{"$f":"PERCENTILE(E$4:E$103,0.25)","v":0.49234374999999997}]
["min",{"$f":"MIN(B$4:B$103)","v":0.32},{"$f":"MIN(C$4:C$103)","v":0.38},{"$f":"MIN(D$4:D$103)","v":0.44749999999999995},{"$f":"MIN(E$4:E$103)","v":0.46250000000000002}]
["Mittelwert",{"$f":"MEDIAN(B$4:B$103)","v":0.48},{"$f":"MEDIAN(C$4:C$103)","v":0.5},{"$f":"MEDIAN(D$4:D$103)","v":0.49749999999999994},{"$f":"MEDIAN(E$4:E$103)","v":0.50187500000000007}]
["Median",{"$f":"AVERAGE(B$4:B$103)","v":0.49599999999999994},{"$f":"AVERAGE(C$4:C$103)","v":0.50060000000000004},{"$f":"AVERAGE(D$4:D$103)","v":0.49810000000000015},{"$f":"AVERAGE(E$4:E$103)","v":0.50024374999999988}]
["max",{"$f":"MAX(B$4:B$103)","v":0.72},{"$f":"MAX(C$4:C$103)","v":0.66},{"$f":"MAX(D$4:D$103)","v":0.57250000000000001},{"$f":"MAX(E$4:E$103)","v":0.52312500000000006}]
["q3",{"$f":"PERCENTILE(B$4:B$103,0.75)","v":0.56000000000000005},{"$f":"PERCENTILE(C$4:C$103,0.75)","v":0.53},{"$f":"PERCENTILE(D$4:D$103,0.75)","v":0.51249999999999996},{"$f":"PERCENTILE(E$4:E$103,0.75)","v":0.50890624999999989}]
[null,{"$f":"B111-B106","v":0.12000000000000005},{"$f":"C111-C106","v":5.0000000000000044E-2},{"$f":"D111-D106","v":2.9999999999999971E-2},{"$f":"E111-E106","v":1.6562499999999925E-2}]
[]
["Im Intervall [0,5-1/SQRT(n);0,5+1/SQRT(n)] liegen ca. 96% aller relativer Häufigkeiten"]
[]
[0.3,{"$f":"FREQUENCY(B$4:B$103,$A116:$A125)","v":0},{"$f":"FREQUENCY(C$4:C$103,$A116:$A125)","v":0},{"$f":"FREQUENCY(D$4:D$103,$A116:$A125)","v":0}]
[0.4,21,2,0]
[0.45,19,15,1]
[0.47499999999999998,0,6,15]
[0.5,12,30,42]
[0.52500000000000002,16,20,33]
[0.55000000000000004,0,19,7]
[0.6,27,5,2]
[0.7,4,3,0]
[1,1,0,0]
[]
[null,{"$f":"SUM(B117:B124)","v":99},{"$f":"SUM(C118:C123)","v":95},{"$f":"SUM(D119:D122)","v":97}]